BEGIN:VCALENDAR
VERSION:2.0
PRODID:spatie/icalendar-generator
DESCRIPTION:Veranstaltungen von Niedersächsischer Ski-Verband
X-WR-CALDESC:Veranstaltungen von Niedersächsischer Ski-Verband
REFRESH-INTERVAL;VALUE=DURATION:PT1440M
X-PUBLISHED-TTL:PT1440M
BEGIN:VTIMEZONE
TZID:Europe/Berlin
BEGIN:STANDARD
DTSTART:20231029T030000Z
TZOFFSETFROM:+0200
TZOFFSETTO:+0100
END:STANDARD
BEGIN:DAYLIGHT
DTSTART:20240331T020000Z
TZOFFSETFROM:+0100
TZOFFSETTO:+0200
END:DAYLIGHT
END:VTIMEZONE
BEGIN:VTIMEZONE
TZID:UTC
BEGIN:STANDARD
DTSTART:20250724T111752Z
TZOFFSETFROM:+0000
TZOFFSETTO:+0000
END:STANDARD
END:VTIMEZONE
BEGIN:VEVENT
UID:11-9
DTSTAMP:20260420T111752Z
SUMMARY:Tour de Harz 10 - Nachtsprintlauf - DSV-Sprint
LOCATION:Beleuchtete Loipe in Buntenbock Hasenbacher Weg   Buntenbock  3867
 8
ORGANIZER;CN=nsv-admin:MAILTO:schwarz@nds-skiverband.de
DTSTART;TZID=Europe/Berlin:20240113T160000
DTEND;TZID=Europe/Berlin:20240113T200000
X-ALT-DESC;FMTTYPE=TEXT/HTML:Sa. 13.01.2024 – DSV Sprint F SC Buntenbock 
 Buntenbock (ggf. LLZ Sonnenberg)
CATEGORIES:Langlauf-Wettkämpfe
URL;VALUE=URI:https://nsv-ski.de/?mc-events=tour-de-harz-10-nachtsprintlauf
 -dsv-sprint
METHOD:PUBLISH
END:VEVENT
END:VCALENDAR