BEGIN:VCALENDAR
VERSION:2.0
PRODID:spatie/icalendar-generator
DESCRIPTION:Veranstaltungen von Niedersächsischer Ski-Verband
X-WR-CALDESC:Veranstaltungen von Niedersächsischer Ski-Verband
REFRESH-INTERVAL;VALUE=DURATION:PT1440M
X-PUBLISHED-TTL:PT1440M
BEGIN:VTIMEZONE
TZID:Europe/Berlin
BEGIN:STANDARD
DTSTART:20231029T030000Z
TZOFFSETFROM:+0200
TZOFFSETTO:+0100
END:STANDARD
BEGIN:DAYLIGHT
DTSTART:20240331T020000Z
TZOFFSETFROM:+0100
TZOFFSETTO:+0200
END:DAYLIGHT
END:VTIMEZONE
BEGIN:VTIMEZONE
TZID:UTC
BEGIN:STANDARD
DTSTART:20250724T101216Z
TZOFFSETFROM:+0000
TZOFFSETTO:+0000
END:STANDARD
END:VTIMEZONE
BEGIN:VEVENT
UID:18-16
DTSTAMP:20260420T101216Z
SUMMARY:Tour de Harz 12  LVM Skiathlon
LOCATION:Landsleistungszentrum \\\"Richard-Schulze-Arena\\\" Sonnenberg Son
 nenberg 6  Braunlage Niedersachsen 38444
ORGANIZER;CN=nsv-admin:MAILTO:schwarz@nds-skiverband.de
DTSTART;TZID=Europe/Berlin:20240303T090000
DTEND;TZID=Europe/Berlin:20240303T140000
X-ALT-DESC;FMTTYPE=TEXT/HTML:Lauf 12 So. 03.03.2024 – LVM Skiathlon Hütt
 enroder SV LLZ Sonnenberg
CATEGORIES:Langlauf-Wettkämpfe
URL;VALUE=URI:https://nsv-ski.de/?mc-events=tour-de-harz-12-lvm-skiathlon
METHOD:PUBLISH
END:VEVENT
END:VCALENDAR