BEGIN:VCALENDAR
VERSION:2.0
PRODID:spatie/icalendar-generator
DESCRIPTION:Veranstaltungen von Niedersächsischer Ski-Verband
X-WR-CALDESC:Veranstaltungen von Niedersächsischer Ski-Verband
REFRESH-INTERVAL;VALUE=DURATION:PT1440M
X-PUBLISHED-TTL:PT1440M
BEGIN:VTIMEZONE
TZID:Europe/Berlin
BEGIN:DAYLIGHT
DTSTART:20230326T020000Z
TZOFFSETFROM:+0100
TZOFFSETTO:+0200
END:DAYLIGHT
BEGIN:STANDARD
DTSTART:20231029T030000Z
TZOFFSETFROM:+0200
TZOFFSETTO:+0100
END:STANDARD
BEGIN:DAYLIGHT
DTSTART:20240331T020000Z
TZOFFSETFROM:+0100
TZOFFSETTO:+0200
END:DAYLIGHT
END:VTIMEZONE
BEGIN:VTIMEZONE
TZID:UTC
BEGIN:STANDARD
DTSTART:20250726T084435Z
TZOFFSETFROM:+0000
TZOFFSETTO:+0000
END:STANDARD
END:VTIMEZONE
BEGIN:VEVENT
UID:19-17
DTSTAMP:20260422T084435Z
SUMMARY:Tour de Harz 7+8  Supersprint + Techniksprint
LOCATION:
ORGANIZER;CN=nsv-admin:MAILTO:schwarz@nds-skiverband.de
DTSTART;TZID=Europe/Berlin:20231209T090000
DTEND;TZID=Europe/Berlin:20231209T140000
X-ALT-DESC;FMTTYPE=TEXT/HTML:Lauf 7 Sa. 09.12.2023 – Supersprint ft (Ausw
 eichtermin: Sa. 16.12.2022) NSV Wernigerode / WSV Benneckenstein Bennecken
 stein (Alternativ: Skiroller – SC Köthen – Seebad Edderitz) &amp;nbsp\; L
 auf 8 Sa. 09.12.2023 – LVM Techniksprint F ab U20 Nordic Prolog F (Auswe
 ichtermin: Sa. 16.12.2022) NSV Wernigerode / WSV Benneckenstein Benneckens
 tein (Alternativ: Skiroller – SC Köthen – Seebad Edderitz)
CATEGORIES:Langlauf-Wettkämpfe
URL;VALUE=URI:https://nsv-ski.de/?mc-events=tour-de-harz-78-supersprint-tec
 hniksprint
METHOD:PUBLISH
END:VEVENT
END:VCALENDAR