BEGIN:VCALENDAR
VERSION:2.0
PRODID:spatie/icalendar-generator
DESCRIPTION:Veranstaltungen von Niedersächsischer Ski-Verband
X-WR-CALDESC:Veranstaltungen von Niedersächsischer Ski-Verband
REFRESH-INTERVAL;VALUE=DURATION:PT1440M
X-PUBLISHED-TTL:PT1440M
BEGIN:VTIMEZONE
TZID:Europe/Berlin
BEGIN:STANDARD
DTSTART:20221030T030000Z
TZOFFSETFROM:+0200
TZOFFSETTO:+0100
END:STANDARD
BEGIN:DAYLIGHT
DTSTART:20230326T020000Z
TZOFFSETFROM:+0100
TZOFFSETTO:+0200
END:DAYLIGHT
END:VTIMEZONE
BEGIN:VTIMEZONE
TZID:UTC
BEGIN:STANDARD
DTSTART:20250724T142025Z
TZOFFSETFROM:+0000
TZOFFSETTO:+0000
END:STANDARD
END:VTIMEZONE
BEGIN:VEVENT
UID:8-6
DTSTAMP:20260420T142025Z
SUMMARY:Tour de Harz 8  Einzelstart-Wettkampf cl
LOCATION:
ORGANIZER;CN=nsv-admin:MAILTO:schwarz@nds-skiverband.de
DTSTART;TZID=Europe/Berlin:20230108T100000
DTEND;TZID=Europe/Berlin:20230108T140000
X-ALT-DESC;FMTTYPE=TEXT/HTML:Lauf 8 So. 08.01.2023 – Einzelstart-Wettkamp
 f cl (mit Technikelementen) BTSV Eintracht Braunschweig LLZ Sonnenberg Aus
 schreibung
CATEGORIES:Langlauf-Wettkämpfe
URL;VALUE=URI:https://nsv-ski.de/?mc-events=tour-de-harz-8-einzelstart-wett
 kampf-cl
METHOD:PUBLISH
END:VEVENT
END:VCALENDAR