BEGIN:VCALENDAR
VERSION:2.0
PRODID:spatie/icalendar-generator
DESCRIPTION:Veranstaltungen von Niedersächsischer Ski-Verband
X-WR-CALDESC:Veranstaltungen von Niedersächsischer Ski-Verband
REFRESH-INTERVAL;VALUE=DURATION:PT1440M
X-PUBLISHED-TTL:PT1440M
BEGIN:VTIMEZONE
TZID:Europe/Berlin
BEGIN:STANDARD
DTSTART:20221030T030000Z
TZOFFSETFROM:+0200
TZOFFSETTO:+0100
END:STANDARD
BEGIN:DAYLIGHT
DTSTART:20230326T020000Z
TZOFFSETFROM:+0100
TZOFFSETTO:+0200
END:DAYLIGHT
END:VTIMEZONE
BEGIN:VTIMEZONE
TZID:UTC
BEGIN:STANDARD
DTSTART:20250724T125717Z
TZOFFSETFROM:+0000
TZOFFSETTO:+0000
END:STANDARD
END:VTIMEZONE
BEGIN:VEVENT
UID:9-7
DTSTAMP:20260420T125717Z
SUMMARY:Tour de Harz 9  Sprint (cl)
LOCATION:
ORGANIZER;CN=nsv-admin:MAILTO:schwarz@nds-skiverband.de
DTSTART;TZID=Europe/Berlin:20230114T170000
DTEND;TZID=Europe/Berlin:20230114T200000
X-ALT-DESC;FMTTYPE=TEXT/HTML:Lauf 9 Sa. 14.01.2023 – Sprint (cl) SC Bunte
 nbock Buntenbock
CATEGORIES:Langlauf-Wettkämpfe
URL;VALUE=URI:https://nsv-ski.de/?mc-events=tour-de-harz-9-sprint-cl
METHOD:PUBLISH
END:VEVENT
END:VCALENDAR