BEGIN:VCALENDAR
VERSION:2.0
PRODID:spatie/icalendar-generator
DESCRIPTION:Veranstaltungen von Niedersächsischer Ski-Verband
X-WR-CALDESC:Veranstaltungen von Niedersächsischer Ski-Verband
REFRESH-INTERVAL;VALUE=DURATION:PT1440M
X-PUBLISHED-TTL:PT1440M
BEGIN:VTIMEZONE
TZID:Europe/Berlin
BEGIN:STANDARD
DTSTART:20231029T030000Z
TZOFFSETFROM:+0200
TZOFFSETTO:+0100
END:STANDARD
BEGIN:DAYLIGHT
DTSTART:20240331T020000Z
TZOFFSETFROM:+0100
TZOFFSETTO:+0200
END:DAYLIGHT
END:VTIMEZONE
BEGIN:VTIMEZONE
TZID:UTC
BEGIN:STANDARD
DTSTART:20250724T101459Z
TZOFFSETFROM:+0000
TZOFFSETTO:+0000
END:STANDARD
END:VTIMEZONE
BEGIN:VEVENT
UID:10-8
DTSTAMP:20260420T101459Z
SUMMARY:Walter-Stolz-Gedächtnislauf Einzelstart-Wettkampf cl (mit Technike
 lementen)
LOCATION:Landsleistungszentrum \\\"Richard-Schulze-Arena\\\" Sonnenberg Son
 nenberg 6  Braunlage Niedersachsen 38444
ORGANIZER;CN=nsv-admin:MAILTO:schwarz@nds-skiverband.de
DTSTART;TZID=Europe/Berlin:20240107T100000
DTEND;TZID=Europe/Berlin:20240107T140000
X-ALT-DESC;FMTTYPE=TEXT/HTML:So. 07.01.2023 – Einzelstart-Wettkampf cl (m
 it Technikelementen) BTSV Eintracht Braunschweig LLZ Sonnenberg
CATEGORIES:Langlauf-Wettkämpfe
URL;VALUE=URI:https://nsv-ski.de/?mc-events=walter-stolz-gedaechtnislauf-ei
 nzelstart-wettkampf-cl-mit-technikelementen
METHOD:PUBLISH
END:VEVENT
END:VCALENDAR